BEGIN:VCALENDAR
VERSION:2.0
METHOD:PUBLISH
PRODID:-//Causal Sarl//LionsBase Calendar 5.0.x-dev//EN
TZID:Europe/Zurich
BEGIN:VEVENT
UID:31457_20260526@graz-schlossberg.lions.at
DTSTAMP:20260420T101822Z
DTSTART:20260526T163000Z
DTEND:20260526T190000Z
ORGANIZER:LC Graz Schlossberg
LOCATION:Gösser Bräu Graz\, Neutorgasse 48\, 8010 Graz
SUMMARY:16. Clubabend
DESCRIPTION:
END:VEVENT
END:VCALENDAR
